BEGIN:VCALENDAR
VERSION:2.0
PRODID:spatie/icalendar-generator
DESCRIPTION:Events from STLE Alberta Section
X-WR-CALDESC:Events from STLE Alberta Section
REFRESH-INTERVAL;VALUE=DURATION:PT1440M
X-PUBLISHED-TTL:PT1440M
BEGIN:VTIMEZONE
TZID:America/Edmonton
BEGIN:STANDARD
DTSTART:20171105T020000Z
TZOFFSETFROM:-0600
TZOFFSETTO:-0700
END:STANDARD
BEGIN:DAYLIGHT
DTSTART:20180311T020000Z
TZOFFSETFROM:-0700
TZOFFSETTO:-0600
END:DAYLIGHT
END:VTIMEZONE
BEGIN:VTIMEZONE
TZID:UTC
BEGIN:STANDARD
DTSTART:20250727T152825Z
TZOFFSETFROM:+0000
TZOFFSETTO:+0000
END:STANDARD
END:VTIMEZONE
BEGIN:VEVENT
UID:23-11
DTSTAMP:20260423T152825Z
SUMMARY:STLE Alberta Section Education Seminar 2018
LOCATION:Radisson Hotel South Edmonton 4440 Gateway Boulevard NW  Edmonton 
 Alberta T6H 5C2
ORGANIZER;CN=STLE Alberta Section:MAILTO:admin@stlealberta.org
DTSTART;TZID=America/Edmonton:20180307T073000
DTEND;TZID=America/Edmonton:20180307T160000
X-ALT-DESC;FMTTYPE=TEXT/HTML:  Final registrations available at the door b
 ased upon available seating. Payments can be made online when registering 
 below\, or you may pay in person at the door on March 7\, 2018 by selectin
 g \"Invoice\" during checkout. Coffee\, Tea\, Beverages\, Pastries and Lun
 ch Provided Hosted by the Alberta Section of the Society of Tribologists a
 nd&amp;hellip\;
CATEGORIES:Seminars
URL;VALUE=URI:https://www.stlealberta.org/mc-events/stle-alberta-section-ed
 ucation-seminar-2018/
METHOD:PUBLISH
END:VEVENT
END:VCALENDAR