BEGIN:VCALENDAR
VERSION:2.0
PRODID:spatie/icalendar-generator
DESCRIPTION:Events from STLE Alberta Section
X-WR-CALDESC:Events from STLE Alberta Section
REFRESH-INTERVAL;VALUE=DURATION:PT1440M
X-PUBLISHED-TTL:PT1440M
BEGIN:VTIMEZONE
TZID:America/Edmonton
BEGIN:STANDARD
DTSTART:20201101T020000Z
TZOFFSETFROM:-0600
TZOFFSETTO:-0700
END:STANDARD
BEGIN:DAYLIGHT
DTSTART:20210314T020000Z
TZOFFSETFROM:-0700
TZOFFSETTO:-0600
END:DAYLIGHT
END:VTIMEZONE
BEGIN:VTIMEZONE
TZID:UTC
BEGIN:STANDARD
DTSTART:20250729T152847Z
TZOFFSETFROM:+0000
TZOFFSETTO:+0000
END:STANDARD
END:VTIMEZONE
BEGIN:VEVENT
UID:89-59
DTSTAMP:20260425T152847Z
SUMMARY:SAE Alberta March 2022 Meeting
LOCATION:
ORGANIZER;CN=STLE Alberta Section:MAILTO:admin@stlealberta.org
DTSTART;TZID=America/Edmonton:20210218T120000
DTEND;TZID=America/Edmonton:20210218T130000
X-ALT-DESC;FMTTYPE=TEXT/HTML:Join our friends at the SAE Alberta Section fo
 r a session on the \"Tales from the Cab: Understanding Human Factors in th
 e Trucking Industry\" [maxbutton id=\"16\" url=\"https://us02web.zoom.us/m
 eeting/register/tZAkdO2rrTkjHdOCn-wCtNG7n_inTP7792SX\" ]
CATEGORIES:Meetings
URL;VALUE=URI:https://www.stlealberta.org/mc-events/sae-alberta-march-2022-
 meeting/
METHOD:PUBLISH
END:VEVENT
END:VCALENDAR