BEGIN:VCALENDAR
VERSION:2.0
PRODID:spatie/icalendar-generator
DESCRIPTION:Events from STLE Alberta Section
X-WR-CALDESC:Events from STLE Alberta Section
REFRESH-INTERVAL;VALUE=DURATION:PT1440M
X-PUBLISHED-TTL:PT1440M
BEGIN:VTIMEZONE
TZID:America/Edmonton
BEGIN:DAYLIGHT
DTSTART:20210314T020000Z
TZOFFSETFROM:-0700
TZOFFSETTO:-0600
END:DAYLIGHT
BEGIN:STANDARD
DTSTART:20211107T020000Z
TZOFFSETFROM:-0600
TZOFFSETTO:-0700
END:STANDARD
BEGIN:DAYLIGHT
DTSTART:20220313T020000Z
TZOFFSETFROM:-0700
TZOFFSETTO:-0600
END:DAYLIGHT
END:VTIMEZONE
BEGIN:VTIMEZONE
TZID:UTC
BEGIN:STANDARD
DTSTART:20250730T035919Z
TZOFFSETFROM:+0000
TZOFFSETTO:+0000
END:STANDARD
END:VTIMEZONE
BEGIN:VEVENT
UID:85-58
DTSTAMP:20260426T035919Z
SUMMARY:October 2021 STLE Meeting
LOCATION:
ORGANIZER;CN=STLE Alberta Section:MAILTO:admin@stlealberta.org
DTSTART;TZID=America/Edmonton:20211019T100000
DTEND;TZID=America/Edmonton:20211019T110000
X-ALT-DESC;FMTTYPE=TEXT/HTML:Topic: Chemistry and Technology of Fuel and Lu
 bricant Additives Speaker: Dr. Prem Pal\, Manager- Downstream Products\, R
 EDA Canada Ltd. &amp;nbsp\; Presentation Topic: Fuels and lubricants are essen
 tial part of our life. In fact\, they have been instrumental in our surviv
 al and progression as we see today. With time\, our understandings for pro
 ducing more efficient fuels&amp;hellip\;
CATEGORIES:Certification Exam
URL;VALUE=URI:https://www.stlealberta.org/mc-events/october-2021-stle-meeti
 ng/
METHOD:PUBLISH
END:VEVENT
END:VCALENDAR