BEGIN:VCALENDAR
VERSION:2.0
PRODID:spatie/icalendar-generator
DESCRIPTION:Events from STLE Alberta Section
X-WR-CALDESC:Events from STLE Alberta Section
REFRESH-INTERVAL;VALUE=DURATION:PT1440M
X-PUBLISHED-TTL:PT1440M
BEGIN:VTIMEZONE
TZID:America/Edmonton
BEGIN:DAYLIGHT
DTSTART:20210314T020000Z
TZOFFSETFROM:-0700
TZOFFSETTO:-0600
END:DAYLIGHT
BEGIN:STANDARD
DTSTART:20211107T020000Z
TZOFFSETFROM:-0600
TZOFFSETTO:-0700
END:STANDARD
BEGIN:DAYLIGHT
DTSTART:20220313T020000Z
TZOFFSETFROM:-0700
TZOFFSETTO:-0600
END:DAYLIGHT
END:VTIMEZONE
BEGIN:VTIMEZONE
TZID:UTC
BEGIN:STANDARD
DTSTART:20250730T022546Z
TZOFFSETFROM:+0000
TZOFFSETTO:+0000
END:STANDARD
END:VTIMEZONE
BEGIN:VEVENT
UID:75-48
DTSTAMP:20260426T022546Z
SUMMARY:September 2021 Virtual Meeting
LOCATION:Zoom Webinar
ORGANIZER;CN=STLE Alberta Section:MAILTO:admin@stlealberta.org
DTSTART;TZID=America/Edmonton:20210921T100000
DTEND;TZID=America/Edmonton:20210921T110000
X-ALT-DESC;FMTTYPE=TEXT/HTML:Topic: Development and Demonstration of a Prot
 otype 0W-20 Heavy Duty Diesel Engine Oil Speaker: John pettingill\, petro-
 canada &amp;nbsp\; Presentation Topic: Petro-Canada Lubricants has conducted o
 n-road field trials with two novel SAE 0W-20 viscosity grade Heavy Duty Di
 esel Engine Oil (HDEO) formulations to demonstrate that reducing engine oi
 l viscosity to lower viscosity grades is possible. Most&amp;hellip\;
CATEGORIES:Meetings
URL;VALUE=URI:https://www.stlealberta.org/mc-events/september-2021-virtual-
 meeting/
METHOD:PUBLISH
END:VEVENT
END:VCALENDAR