BEGIN:VCALENDAR
VERSION:2.0
PRODID:spatie/icalendar-generator
DESCRIPTION:Events from STLE Alberta Section
X-WR-CALDESC:Events from STLE Alberta Section
REFRESH-INTERVAL;VALUE=DURATION:PT1440M
X-PUBLISHED-TTL:PT1440M
BEGIN:VTIMEZONE
TZID:America/Edmonton
BEGIN:STANDARD
DTSTART:20201101T020000Z
TZOFFSETFROM:-0600
TZOFFSETTO:-0700
END:STANDARD
BEGIN:DAYLIGHT
DTSTART:20210314T020000Z
TZOFFSETFROM:-0700
TZOFFSETTO:-0600
END:DAYLIGHT
BEGIN:STANDARD
DTSTART:20211107T020000Z
TZOFFSETFROM:-0600
TZOFFSETTO:-0700
END:STANDARD
END:VTIMEZONE
BEGIN:VTIMEZONE
TZID:UTC
BEGIN:STANDARD
DTSTART:20250730T010517Z
TZOFFSETFROM:+0000
TZOFFSETTO:+0000
END:STANDARD
END:VTIMEZONE
BEGIN:VEVENT
UID:74-45
DTSTAMP:20260426T010517Z
SUMMARY:May 2021 Meeting
LOCATION:Zoom Webinar
ORGANIZER;CN=STLE Alberta Section:MAILTO:admin@stlealberta.org
DTSTART;TZID=America/Edmonton:20210519T190000
DTEND;TZID=America/Edmonton:20210519T200000
X-ALT-DESC;FMTTYPE=TEXT/HTML:STLE Alberta Section in conjunction with SAE A
 lberta Section and the SAE British Columbia for a technical presentation o
 n May 19\, 2021 (Wednesday) at 7 PM MDT. We are honoured to invite Lyft In
 c.\, Toyota Canada Inc.\, and the Hydrogen Technology and Energy Corporat
 ion to present a seminar on their initiative to provide ridesharing using
  a fleet&amp;hellip\;
CATEGORIES:Meetings
URL;VALUE=URI:https://www.stlealberta.org/mc-events/may-2021-meeting/
METHOD:PUBLISH
END:VEVENT
END:VCALENDAR