BEGIN:VCALENDAR
VERSION:2.0
PRODID:spatie/icalendar-generator
DESCRIPTION:Events from STLE Alberta Section
X-WR-CALDESC:Events from STLE Alberta Section
REFRESH-INTERVAL;VALUE=DURATION:PT1440M
X-PUBLISHED-TTL:PT1440M
BEGIN:VTIMEZONE
TZID:America/Edmonton
BEGIN:STANDARD
DTSTART:20201101T020000Z
TZOFFSETFROM:-0600
TZOFFSETTO:-0700
END:STANDARD
BEGIN:DAYLIGHT
DTSTART:20210314T020000Z
TZOFFSETFROM:-0700
TZOFFSETTO:-0600
END:DAYLIGHT
END:VTIMEZONE
BEGIN:VTIMEZONE
TZID:UTC
BEGIN:STANDARD
DTSTART:20250729T170832Z
TZOFFSETFROM:+0000
TZOFFSETTO:+0000
END:STANDARD
END:VTIMEZONE
BEGIN:VEVENT
UID:73-47
DTSTAMP:20260425T170832Z
SUMMARY:SAE Alberta February 2021 Meeting
LOCATION:
ORGANIZER;CN=STLE Alberta Section:MAILTO:admin@stlealberta.org
DTSTART;TZID=America/Edmonton:20210218T190000
DTEND;TZID=America/Edmonton:20210218T200000
X-ALT-DESC;FMTTYPE=TEXT/HTML:Join our friends at the SAE Alberta Section fo
 r a session on the Ford Mustang Mach-E electric vehicle. &amp;nbsp\; [maxbutto
 n id=\"16\" ]
CATEGORIES:Meetings
URL;VALUE=URI:https://www.stlealberta.org/mc-events/sae-alberta-february-20
 21-meeting/
METHOD:PUBLISH
END:VEVENT
END:VCALENDAR