BEGIN:VCALENDAR
VERSION:2.0
PRODID:spatie/icalendar-generator
DESCRIPTION:Events from STLE Alberta Section
X-WR-CALDESC:Events from STLE Alberta Section
REFRESH-INTERVAL;VALUE=DURATION:PT1440M
X-PUBLISHED-TTL:PT1440M
BEGIN:VTIMEZONE
TZID:America/Edmonton
BEGIN:STANDARD
DTSTART:20201101T020000Z
TZOFFSETFROM:-0600
TZOFFSETTO:-0700
END:STANDARD
BEGIN:DAYLIGHT
DTSTART:20210314T020000Z
TZOFFSETFROM:-0700
TZOFFSETTO:-0600
END:DAYLIGHT
BEGIN:STANDARD
DTSTART:20211107T020000Z
TZOFFSETFROM:-0600
TZOFFSETTO:-0700
END:STANDARD
END:VTIMEZONE
BEGIN:VTIMEZONE
TZID:UTC
BEGIN:STANDARD
DTSTART:20250729T233840Z
TZOFFSETFROM:+0000
TZOFFSETTO:+0000
END:STANDARD
END:VTIMEZONE
BEGIN:VEVENT
UID:72-46
DTSTAMP:20260425T233840Z
SUMMARY:75th Annual STLE Annual Meeting
LOCATION:
ORGANIZER;CN=STLE Alberta Section:MAILTO:admin@stlealberta.org
DTSTART;TZID=America/Edmonton;VALUE=DATE:20210517
DTEND;TZID=America/Edmonton;VALUE=DATE:20210521
X-ALT-DESC;FMTTYPE=TEXT/HTML:This year’s 75th Annual Meeting will be a vi
 rtual event held May 17-20\, 2021. This year the virtual format makes it m
 uch easier to attend the Annual Meeting\, maybe for the first time. Partic
 ipants will get full access to 300+ excellent technical presentations\, ke
 ynote speakers and more than 65 exhibitors. In addition\, to better accomm
 odate&amp;hellip\;
CATEGORIES:Meetings
URL;VALUE=URI:https://www.stlealberta.org/mc-events/75th-annual-stle-annual
 -meeting/
METHOD:PUBLISH
END:VEVENT
END:VCALENDAR