BEGIN:VCALENDAR
VERSION:2.0
PRODID:spatie/icalendar-generator
DESCRIPTION:Events from STLE Alberta Section
X-WR-CALDESC:Events from STLE Alberta Section
REFRESH-INTERVAL;VALUE=DURATION:PT1440M
X-PUBLISHED-TTL:PT1440M
BEGIN:VTIMEZONE
TZID:America/Edmonton
BEGIN:STANDARD
DTSTART:20201101T020000Z
TZOFFSETFROM:-0600
TZOFFSETTO:-0700
END:STANDARD
BEGIN:DAYLIGHT
DTSTART:20210314T020000Z
TZOFFSETFROM:-0700
TZOFFSETTO:-0600
END:DAYLIGHT
END:VTIMEZONE
BEGIN:VTIMEZONE
TZID:UTC
BEGIN:STANDARD
DTSTART:20250729T215047Z
TZOFFSETFROM:+0000
TZOFFSETTO:+0000
END:STANDARD
END:VTIMEZONE
BEGIN:VEVENT
UID:70-44
DTSTAMP:20260425T215047Z
SUMMARY:April 2021 Meeting
LOCATION:Zoom Webinar
ORGANIZER;CN=STLE Alberta Section:MAILTO:admin@stlealberta.org
DTSTART;TZID=America/Edmonton:20210420T100000
DTEND;TZID=America/Edmonton:20210420T110000
X-ALT-DESC;FMTTYPE=TEXT/HTML:Topic: The Fuel's Current Technology\, Regulat
 ion and the Future Development Speaker: Kyle Hanson\, Senior Advisor Fuels
  Quality\, Suncor Energy &amp;nbsp\; Our speaker: Kyle Hanson has 13 years exp
 erience n the Oil and Gas analysis and quality with 10 years working in fi
 nished fuels (gasoline\, diesel\, aviation) product quality including refi
 nery process\, laboratory Q/A\, method development\,&amp;hellip\;
CATEGORIES:Meetings
URL;VALUE=URI:https://www.stlealberta.org/mc-events/april-2021-meeting/
METHOD:PUBLISH
END:VEVENT
END:VCALENDAR