BEGIN:VCALENDAR
VERSION:2.0
PRODID:spatie/icalendar-generator
DESCRIPTION:Events from STLE Alberta Section
X-WR-CALDESC:Events from STLE Alberta Section
REFRESH-INTERVAL;VALUE=DURATION:PT1440M
X-PUBLISHED-TTL:PT1440M
BEGIN:VTIMEZONE
TZID:America/Edmonton
BEGIN:STANDARD
DTSTART:20201101T020000Z
TZOFFSETFROM:-0600
TZOFFSETTO:-0700
END:STANDARD
BEGIN:DAYLIGHT
DTSTART:20210314T020000Z
TZOFFSETFROM:-0700
TZOFFSETTO:-0600
END:DAYLIGHT
END:VTIMEZONE
BEGIN:VTIMEZONE
TZID:UTC
BEGIN:STANDARD
DTSTART:20250729T200910Z
TZOFFSETFROM:+0000
TZOFFSETTO:+0000
END:STANDARD
END:VTIMEZONE
BEGIN:VEVENT
UID:69-43
DTSTAMP:20260425T200910Z
SUMMARY:March 2021 Meeting
LOCATION:Zoom Webinar
ORGANIZER;CN=STLE Alberta Section:MAILTO:admin@stlealberta.org
DTSTART;TZID=America/Edmonton:20210316T100000
DTEND;TZID=America/Edmonton:20210316T110000
X-ALT-DESC;FMTTYPE=TEXT/HTML:Topic: Friction and Wear Issues in Conventiona
 l Energy Extraction Infrastructure &amp;nbsp\; Speaker: Philip Egberts\, PhD\,
  PEng Associate Professor\, Department of Mechanical and Manufacturing Eng
 ineering\, University of Calgary &amp;nbsp\; Presentation Topic: Conventional 
 energy extraction represents a significant portion of the Albertian and Ca
 nadian economies. While often not a primary focus of the industry\, there 
 are several&amp;hellip\;
CATEGORIES:Meetings
URL;VALUE=URI:https://www.stlealberta.org/mc-events/march-2021-meeting/
METHOD:PUBLISH
END:VEVENT
END:VCALENDAR