BEGIN:VCALENDAR
VERSION:2.0
PRODID:spatie/icalendar-generator
DESCRIPTION:Events from STLE Alberta Section
X-WR-CALDESC:Events from STLE Alberta Section
REFRESH-INTERVAL;VALUE=DURATION:PT1440M
X-PUBLISHED-TTL:PT1440M
BEGIN:VTIMEZONE
TZID:America/Edmonton
BEGIN:STANDARD
DTSTART:20201101T020000Z
TZOFFSETFROM:-0600
TZOFFSETTO:-0700
END:STANDARD
BEGIN:DAYLIGHT
DTSTART:20210314T020000Z
TZOFFSETFROM:-0700
TZOFFSETTO:-0600
END:DAYLIGHT
END:VTIMEZONE
BEGIN:VTIMEZONE
TZID:UTC
BEGIN:STANDARD
DTSTART:20250729T183428Z
TZOFFSETFROM:+0000
TZOFFSETTO:+0000
END:STANDARD
END:VTIMEZONE
BEGIN:VEVENT
UID:68-42
DTSTAMP:20260425T183428Z
SUMMARY:February 2021 Meeting
LOCATION:Zoom Webinar
ORGANIZER;CN=STLE Alberta Section:MAILTO:admin@stlealberta.org
DTSTART;TZID=America/Edmonton:20210223T100000
DTEND;TZID=America/Edmonton:20210223T110000
X-ALT-DESC;FMTTYPE=TEXT/HTML:Topic: Biotribology Speaker: Professor Angela 
 A. Pitenis\, University of California &amp;nbsp\; Presentation Topic: Biotribo
 logy is a field of study that is focused on fundamental investigations of 
 surfaces\, contact mechanics\, friction\, wear\, and lubrication within th
 e body and in the natural world. Friction and wear are not intrinsic prope
 rties of a material\; rather\, they are functions&amp;hellip\;
CATEGORIES:Meetings
URL;VALUE=URI:https://www.stlealberta.org/mc-events/february-2021-meeting/
METHOD:PUBLISH
END:VEVENT
END:VCALENDAR