BEGIN:VCALENDAR
VERSION:2.0
PRODID:spatie/icalendar-generator
DESCRIPTION:Events from STLE Alberta Section
X-WR-CALDESC:Events from STLE Alberta Section
REFRESH-INTERVAL;VALUE=DURATION:PT1440M
X-PUBLISHED-TTL:PT1440M
BEGIN:VTIMEZONE
TZID:America/Edmonton
BEGIN:STANDARD
DTSTART:20201101T020000Z
TZOFFSETFROM:-0600
TZOFFSETTO:-0700
END:STANDARD
BEGIN:DAYLIGHT
DTSTART:20210314T020000Z
TZOFFSETFROM:-0700
TZOFFSETTO:-0600
END:DAYLIGHT
END:VTIMEZONE
BEGIN:VTIMEZONE
TZID:UTC
BEGIN:STANDARD
DTSTART:20250729T134719Z
TZOFFSETFROM:+0000
TZOFFSETTO:+0000
END:STANDARD
END:VTIMEZONE
BEGIN:VEVENT
UID:67-41
DTSTAMP:20260425T134719Z
SUMMARY:January 2021 Meeting
LOCATION:Zoom Webinar
ORGANIZER;CN=STLE Alberta Section:MAILTO:admin@stlealberta.org
DTSTART;TZID=America/Edmonton:20210119T100000
DTEND;TZID=America/Edmonton:20210119T110000
X-ALT-DESC;FMTTYPE=TEXT/HTML:Topic: Bearing Lubrication and Challenges Spea
 ker: Steven Yeung\, NSK &amp;nbsp\; Presentation Topic: This presentation will
  cover the bearing type and lubrication fundamental\, case studies on the 
 lube related bearing failure\, and the tips to improve the bearing reliabi
 lity. NOTE: This presentation was previously presented at the January 2020
  meeting in Edmonton. Our speaker: Steven holds&amp;hellip\;
CATEGORIES:Meetings
URL;VALUE=URI:https://www.stlealberta.org/mc-events/january-2021-meeting/
METHOD:PUBLISH
END:VEVENT
END:VCALENDAR