BEGIN:VCALENDAR
VERSION:2.0
PRODID:spatie/icalendar-generator
DESCRIPTION:Events from STLE Alberta Section
X-WR-CALDESC:Events from STLE Alberta Section
REFRESH-INTERVAL;VALUE=DURATION:PT1440M
X-PUBLISHED-TTL:PT1440M
BEGIN:VTIMEZONE
TZID:America/Edmonton
BEGIN:STANDARD
DTSTART:20201101T020000Z
TZOFFSETFROM:-0600
TZOFFSETTO:-0700
END:STANDARD
BEGIN:DAYLIGHT
DTSTART:20210314T020000Z
TZOFFSETFROM:-0700
TZOFFSETTO:-0600
END:DAYLIGHT
END:VTIMEZONE
BEGIN:VTIMEZONE
TZID:UTC
BEGIN:STANDARD
DTSTART:20250729T115515Z
TZOFFSETFROM:+0000
TZOFFSETTO:+0000
END:STANDARD
END:VTIMEZONE
BEGIN:VEVENT
UID:65-40
DTSTAMP:20260425T115515Z
SUMMARY:December 2020 Meeting
LOCATION:Zoom Webinar
ORGANIZER;CN=STLE Alberta Section:MAILTO:admin@stlealberta.org
DTSTART;TZID=America/Edmonton:20201215T100000
DTEND;TZID=America/Edmonton:20201215T110000
X-ALT-DESC;FMTTYPE=TEXT/HTML:Topic: Filtration in Mining Industry Speaker: 
 Rick Klassen\, Klassen Specialty Hydraulics &amp;nbsp\; Presentation Topic: Th
 is presentation will cover the mining industry introduction\, filtration s
 ystem and good practice in mobile equipment\, fix plant asset and lube/fue
 l storage. Our speaker: Rick Klassen is with Klassen Specialty Hydraulics 
 who are a distributor of CJC Filtration. Rick has 18&amp;hellip\;
CATEGORIES:Meetings
URL;VALUE=URI:https://www.stlealberta.org/mc-events/december-2020-meeting/
METHOD:PUBLISH
END:VEVENT
END:VCALENDAR