BEGIN:VCALENDAR
VERSION:2.0
PRODID:spatie/icalendar-generator
DESCRIPTION:Events from STLE Alberta Section
X-WR-CALDESC:Events from STLE Alberta Section
REFRESH-INTERVAL;VALUE=DURATION:PT1440M
X-PUBLISHED-TTL:PT1440M
BEGIN:VTIMEZONE
TZID:America/Edmonton
BEGIN:DAYLIGHT
DTSTART:20190310T020000Z
TZOFFSETFROM:-0700
TZOFFSETTO:-0600
END:DAYLIGHT
BEGIN:STANDARD
DTSTART:20191103T020000Z
TZOFFSETFROM:-0600
TZOFFSETTO:-0700
END:STANDARD
BEGIN:DAYLIGHT
DTSTART:20200308T020000Z
TZOFFSETFROM:-0700
TZOFFSETTO:-0600
END:DAYLIGHT
END:VTIMEZONE
BEGIN:VTIMEZONE
TZID:UTC
BEGIN:STANDARD
DTSTART:20250728T164132Z
TZOFFSETFROM:+0000
TZOFFSETTO:+0000
END:STANDARD
END:VTIMEZONE
BEGIN:VEVENT
UID:61-36
DTSTAMP:20260424T164132Z
SUMMARY:September 2020 STLE Meeting - Edmonton
LOCATION:
ORGANIZER;CN=STLE Alberta Section:MAILTO:admin@stlealberta.org
DTSTART;TZID=America/Edmonton:20190916T180000
DTEND;TZID=America/Edmonton:20190916T210000
X-ALT-DESC;FMTTYPE=TEXT/HTML:Topic: Open Gear Lubrication Speakers: Marc An
 isco Organization: FUCHS Lubricants Canada Ltd. The STLE Alberta Section w
 ould like to invite you to the first meeting of the 2019-2020 Season. The 
 feature topic will revolve around the Lubrication practices for Open Gear 
 Drives and will be presented by Marc Anisco from FUCHS Lubricants Canada L
 TD. Marc&amp;hellip\;
CATEGORIES:Meetings
URL;VALUE=URI:https://www.stlealberta.org/mc-events/september-2020-stle-mee
 ting-edmonton/
METHOD:PUBLISH
END:VEVENT
END:VCALENDAR