BEGIN:VCALENDAR
VERSION:2.0
PRODID:spatie/icalendar-generator
DESCRIPTION:Events from STLE Alberta Section
X-WR-CALDESC:Events from STLE Alberta Section
REFRESH-INTERVAL;VALUE=DURATION:PT1440M
X-PUBLISHED-TTL:PT1440M
BEGIN:VTIMEZONE
TZID:America/Edmonton
BEGIN:STANDARD
DTSTART:20191103T020000Z
TZOFFSETFROM:-0600
TZOFFSETTO:-0700
END:STANDARD
BEGIN:DAYLIGHT
DTSTART:20200308T020000Z
TZOFFSETFROM:-0700
TZOFFSETTO:-0600
END:DAYLIGHT
END:VTIMEZONE
BEGIN:VTIMEZONE
TZID:UTC
BEGIN:STANDARD
DTSTART:20250729T030203Z
TZOFFSETFROM:+0000
TZOFFSETTO:+0000
END:STANDARD
END:VTIMEZONE
BEGIN:VEVENT
UID:59-34
DTSTAMP:20260425T030203Z
SUMMARY:March 2020 STLE Meeting - Edmonton CANCELLED
LOCATION:Woodvale Facility &amp;amp\; Golf Clubhouse 4540 50 St NW  Edmonton Al
 berta T6L 6B6
ORGANIZER;CN=STLE Alberta Section:MAILTO:admin@stlealberta.org
DTSTART;TZID=America/Edmonton:20200316T173000
DTEND;TZID=America/Edmonton:20200316T210000
X-ALT-DESC;FMTTYPE=TEXT/HTML:Topic: CANCELLED Speaker: Terry Veenstra Organ
 ization: Petro-Canada Lubricants On Monday\, March 16th\,  we are pleased
  to have Terry Veenstra to present his topic on Contamination Control.  I
 n this month's STLE meeting\, Terry will address potential sources of cont
 amination\, ISO particle count cleanliness\, and good practice and recomme
 ndations for contamination control.  Terry is a Senior Technical&amp;hellip\;
CATEGORIES:Meetings
URL;VALUE=URI:https://www.stlealberta.org/mc-events/march-2020-stle-meeting
 -edmonton-cancelled/
METHOD:PUBLISH
END:VEVENT
END:VCALENDAR