BEGIN:VCALENDAR
VERSION:2.0
PRODID:spatie/icalendar-generator
DESCRIPTION:Events from STLE Alberta Section
X-WR-CALDESC:Events from STLE Alberta Section
REFRESH-INTERVAL;VALUE=DURATION:PT1440M
X-PUBLISHED-TTL:PT1440M
BEGIN:VTIMEZONE
TZID:America/Edmonton
BEGIN:STANDARD
DTSTART:20191103T020000Z
TZOFFSETFROM:-0600
TZOFFSETTO:-0700
END:STANDARD
BEGIN:DAYLIGHT
DTSTART:20200308T020000Z
TZOFFSETFROM:-0700
TZOFFSETTO:-0600
END:DAYLIGHT
END:VTIMEZONE
BEGIN:VTIMEZONE
TZID:UTC
BEGIN:STANDARD
DTSTART:20250729T011806Z
TZOFFSETFROM:+0000
TZOFFSETTO:+0000
END:STANDARD
END:VTIMEZONE
BEGIN:VEVENT
UID:56-33
DTSTAMP:20260425T011806Z
SUMMARY:February 2020 STLE Meeting - Calgary
LOCATION:Hotel Blackfoot (Blackfoot Inn) 5940 Blackfoot Trail SE  Calgary A
 lberta T2H 2B5
ORGANIZER;CN=STLE Alberta Section:MAILTO:admin@stlealberta.org
DTSTART;TZID=America/Edmonton:20200224T173000
DTEND;TZID=America/Edmonton:20200224T210000
X-ALT-DESC;FMTTYPE=TEXT/HTML:Topic: Open Gear Lubrication Speakers: Marc An
 isco Organization: FUCHS Lubricants Canada Ltd. On February 24th\, Marc An
 isco from FUCHS Lubricants Canada LTD will be presenting the feature topic
  on Lubrication practices for Open Gear Drives.  Marc will be speaking on
  the various lubrication methods\, failures modes and predictive analysis 
 associated with open gear drives. Marc&amp;hellip\;
CATEGORIES:Meetings
URL;VALUE=URI:https://www.stlealberta.org/mc-events/february-2020-stle-meet
 ing-calgary/
METHOD:PUBLISH
END:VEVENT
END:VCALENDAR