BEGIN:VCALENDAR
VERSION:2.0
PRODID:spatie/icalendar-generator
DESCRIPTION:Events from STLE Alberta Section
X-WR-CALDESC:Events from STLE Alberta Section
REFRESH-INTERVAL;VALUE=DURATION:PT1440M
X-PUBLISHED-TTL:PT1440M
BEGIN:VTIMEZONE
TZID:America/Edmonton
BEGIN:STANDARD
DTSTART:20191103T020000Z
TZOFFSETFROM:-0600
TZOFFSETTO:-0700
END:STANDARD
BEGIN:DAYLIGHT
DTSTART:20200308T020000Z
TZOFFSETFROM:-0700
TZOFFSETTO:-0600
END:DAYLIGHT
END:VTIMEZONE
BEGIN:VTIMEZONE
TZID:UTC
BEGIN:STANDARD
DTSTART:20250728T233159Z
TZOFFSETFROM:+0000
TZOFFSETTO:+0000
END:STANDARD
END:VTIMEZONE
BEGIN:VEVENT
UID:53-32
DTSTAMP:20260424T233159Z
SUMMARY:January 2020 STLE Meeting - Edmonton
LOCATION:Woodvale Facility &amp;amp\; Golf Clubhouse 4540 50 St NW  Edmonton Al
 berta T6L 6B6
ORGANIZER;CN=STLE Alberta Section:MAILTO:admin@stlealberta.org
DTSTART;TZID=America/Edmonton:20200113T173000
DTEND;TZID=America/Edmonton:20200113T210000
X-ALT-DESC;FMTTYPE=TEXT/HTML:Topic: Bearing Lubrication and Challenges Spea
 kers: Steven Yeung Organization: NSK On Monday\, January 13th\,  we are p
 leased to have Steven Yeung from NSK will present a topic on bearings. Ste
 ven holds a Mechanical Engineering degree and has 32 years experience in t
 he bearing industry.  He processes engineering and field application know
 ledge dealing with rolling bearings\,&amp;hellip\;
CATEGORIES:Meetings
URL;VALUE=URI:https://www.stlealberta.org/mc-events/january-2020-stle-meeti
 ng-edmonton/
METHOD:PUBLISH
END:VEVENT
END:VCALENDAR