BEGIN:VCALENDAR
VERSION:2.0
PRODID:spatie/icalendar-generator
DESCRIPTION:Events from STLE Alberta Section
X-WR-CALDESC:Events from STLE Alberta Section
REFRESH-INTERVAL;VALUE=DURATION:PT1440M
X-PUBLISHED-TTL:PT1440M
BEGIN:VTIMEZONE
TZID:America/Edmonton
BEGIN:STANDARD
DTSTART:20191103T020000Z
TZOFFSETFROM:-0600
TZOFFSETTO:-0700
END:STANDARD
BEGIN:DAYLIGHT
DTSTART:20200308T020000Z
TZOFFSETFROM:-0700
TZOFFSETTO:-0600
END:DAYLIGHT
END:VTIMEZONE
BEGIN:VTIMEZONE
TZID:UTC
BEGIN:STANDARD
DTSTART:20250728T214739Z
TZOFFSETFROM:+0000
TZOFFSETTO:+0000
END:STANDARD
END:VTIMEZONE
BEGIN:VEVENT
UID:52-31
DTSTAMP:20260424T214739Z
SUMMARY:December 2019 STLE Meeting - Calgary
LOCATION:
ORGANIZER;CN=STLE Alberta Section:MAILTO:admin@stlealberta.org
DTSTART;TZID=America/Edmonton:20191209T180000
DTEND;TZID=America/Edmonton:20191209T210000
X-ALT-DESC;FMTTYPE=TEXT/HTML:Topic: Closed Gear Systems Speaker: Dianne Hun
 ter Organization: Sumitomo Drive Technologies On Monday\, December 9th\, D
 ianne Hunter will be talking to us about Closed Gear systems\, in particul
 ar\, cycloidal gear systems. Dianne will be speaking on the various lubric
 ation issues\, failures modes and benefits of using a cycloidal gear drive
 . This is the same topic&amp;hellip\;
CATEGORIES:Meetings
URL;VALUE=URI:https://www.stlealberta.org/mc-events/december-2019-stle-meet
 ing-calgary/
METHOD:PUBLISH
END:VEVENT
END:VCALENDAR