BEGIN:VCALENDAR
VERSION:2.0
PRODID:spatie/icalendar-generator
DESCRIPTION:Events from STLE Alberta Section
X-WR-CALDESC:Events from STLE Alberta Section
REFRESH-INTERVAL;VALUE=DURATION:PT1440M
X-PUBLISHED-TTL:PT1440M
BEGIN:VTIMEZONE
TZID:America/Edmonton
BEGIN:DAYLIGHT
DTSTART:20190310T020000Z
TZOFFSETFROM:-0700
TZOFFSETTO:-0600
END:DAYLIGHT
BEGIN:STANDARD
DTSTART:20191103T020000Z
TZOFFSETFROM:-0600
TZOFFSETTO:-0700
END:STANDARD
BEGIN:DAYLIGHT
DTSTART:20200308T020000Z
TZOFFSETFROM:-0700
TZOFFSETTO:-0600
END:DAYLIGHT
END:VTIMEZONE
BEGIN:VTIMEZONE
TZID:UTC
BEGIN:STANDARD
DTSTART:20250728T195841Z
TZOFFSETFROM:+0000
TZOFFSETTO:+0000
END:STANDARD
END:VTIMEZONE
BEGIN:VEVENT
UID:50-30
DTSTAMP:20260424T195841Z
SUMMARY:November 2019 STLE Meeting - Edmonton
LOCATION:
ORGANIZER;CN=STLE Alberta Section:MAILTO:admin@stlealberta.org
DTSTART;TZID=America/Edmonton:20191118T180000
DTEND;TZID=America/Edmonton:20191118T210000
X-ALT-DESC;FMTTYPE=TEXT/HTML:Topic: Closed Gear Systems Speakers: Dianne Hu
 nter &amp;nbsp\; Dianne Hunter has been in the lubrication industry for a numb
 er of years\, and has helped design lubricants\, as well as recommend the 
 proper lubricant to a client\, to meet their specific needs. She will be t
 alking to us about closed gear systems. She will discuss the&amp;hellip\;
CATEGORIES:Meetings
URL;VALUE=URI:https://www.stlealberta.org/mc-events/november-2019-stle-meet
 ing-edmonton/
METHOD:PUBLISH
END:VEVENT
END:VCALENDAR