BEGIN:VCALENDAR
VERSION:2.0
PRODID:spatie/icalendar-generator
DESCRIPTION:Events from STLE Alberta Section
X-WR-CALDESC:Events from STLE Alberta Section
REFRESH-INTERVAL;VALUE=DURATION:PT1440M
X-PUBLISHED-TTL:PT1440M
BEGIN:VTIMEZONE
TZID:America/Edmonton
BEGIN:DAYLIGHT
DTSTART:20190310T020000Z
TZOFFSETFROM:-0700
TZOFFSETTO:-0600
END:DAYLIGHT
BEGIN:STANDARD
DTSTART:20191103T020000Z
TZOFFSETFROM:-0600
TZOFFSETTO:-0700
END:STANDARD
BEGIN:DAYLIGHT
DTSTART:20200308T020000Z
TZOFFSETFROM:-0700
TZOFFSETTO:-0600
END:DAYLIGHT
END:VTIMEZONE
BEGIN:VTIMEZONE
TZID:UTC
BEGIN:STANDARD
DTSTART:20250728T182332Z
TZOFFSETFROM:+0000
TZOFFSETTO:+0000
END:STANDARD
END:VTIMEZONE
BEGIN:VEVENT
UID:48-29
DTSTAMP:20260424T182332Z
SUMMARY:October 2019 STLE Meeting - Calgary
LOCATION:Hotel Blackfoot (Blackfoot Inn) 5940 Blackfoot Trail SE  Calgary A
 lberta T2H 2B5
ORGANIZER;CN=STLE Alberta Section:MAILTO:admin@stlealberta.org
DTSTART;TZID=America/Edmonton:20191021T180000
DTEND;TZID=America/Edmonton:20191021T210000
X-ALT-DESC;FMTTYPE=TEXT/HTML:Topic: Open Gear Lubricants - POSTPONED Speake
 r: Marc Anisco Organization: FUCHS Lubricants Canada Ltd. On Monday Octobe
 r 21st\, The STLE Alberta Section would like to invite you the first Calga
 ry based meeting of the 2019-2020 season. The feature topic will revolve a
 round the Lubrication practices for Open Gear Drives and will be presented
  by Marc&amp;hellip\;
CATEGORIES:Meetings
URL;VALUE=URI:https://www.stlealberta.org/mc-events/october-2019-stle-meeti
 ng-calgary/
METHOD:PUBLISH
END:VEVENT
END:VCALENDAR