BEGIN:VCALENDAR
VERSION:2.0
PRODID:spatie/icalendar-generator
DESCRIPTION:Events from STLE Alberta Section
X-WR-CALDESC:Events from STLE Alberta Section
REFRESH-INTERVAL;VALUE=DURATION:PT1440M
X-PUBLISHED-TTL:PT1440M
BEGIN:VTIMEZONE
TZID:America/Edmonton
BEGIN:STANDARD
DTSTART:20181104T020000Z
TZOFFSETFROM:-0600
TZOFFSETTO:-0700
END:STANDARD
BEGIN:DAYLIGHT
DTSTART:20190310T020000Z
TZOFFSETFROM:-0700
TZOFFSETTO:-0600
END:DAYLIGHT
BEGIN:STANDARD
DTSTART:20191103T020000Z
TZOFFSETFROM:-0600
TZOFFSETTO:-0700
END:STANDARD
END:VTIMEZONE
BEGIN:VTIMEZONE
TZID:UTC
BEGIN:STANDARD
DTSTART:20250728T144521Z
TZOFFSETFROM:+0000
TZOFFSETTO:+0000
END:STANDARD
END:VTIMEZONE
BEGIN:VEVENT
UID:42-27
DTSTAMP:20260424T144521Z
SUMMARY:Big Rock Brewery Tour
LOCATION:Big Rock Brewery 5555 76th Ave SE  Calgary AB T2C 4L8
ORGANIZER;CN=STLE Alberta Section:MAILTO:admin@stlealberta.org
DTSTART;TZID=America/Edmonton:20190527T173000
DTEND;TZID=America/Edmonton:20190527T200000
X-ALT-DESC;FMTTYPE=TEXT/HTML:Join the STLE Alberta Section on Monday\, May 
 27th\, on a tour of the Big Rock Brewery. This tour will last approx. 2 ho
 urs\, and will include a flight of beer and snacks. [maxbutton id=\"11\"]
CATEGORIES:Certification Exam
URL;VALUE=URI:https://www.stlealberta.org/mc-events/big-rock-brewery-tour/
METHOD:PUBLISH
END:VEVENT
END:VCALENDAR