BEGIN:VCALENDAR
VERSION:2.0
PRODID:spatie/icalendar-generator
DESCRIPTION:Events from STLE Alberta Section
X-WR-CALDESC:Events from STLE Alberta Section
REFRESH-INTERVAL;VALUE=DURATION:PT1440M
X-PUBLISHED-TTL:PT1440M
BEGIN:VTIMEZONE
TZID:America/Edmonton
BEGIN:STANDARD
DTSTART:20181104T020000Z
TZOFFSETFROM:-0600
TZOFFSETTO:-0700
END:STANDARD
BEGIN:DAYLIGHT
DTSTART:20190310T020000Z
TZOFFSETFROM:-0700
TZOFFSETTO:-0600
END:DAYLIGHT
END:VTIMEZONE
BEGIN:VTIMEZONE
TZID:UTC
BEGIN:STANDARD
DTSTART:20250728T075938Z
TZOFFSETFROM:+0000
TZOFFSETTO:+0000
END:STANDARD
END:VTIMEZONE
BEGIN:VEVENT
UID:40-26
DTSTAMP:20260424T075938Z
SUMMARY:Epcor Genesee Tour
LOCATION:Epcor Genesee Genesee Generating Station  Warburg AB T0C 2T0
ORGANIZER;CN=STLE Alberta Section:MAILTO:admin@stlealberta.org
DTSTART;TZID=America/Edmonton:20190219T114500
DTEND;TZID=America/Edmonton:20190219T160000
X-ALT-DESC;FMTTYPE=TEXT/HTML:The Alberta Section of the STLE will be arrang
 ing a Tour of the Epcor Genesee Generating Station on Tuesday\, February 1
 9th. This tour will take place during the day\, from 1 pm to 3 pm. The Gen
 esee site is located roughly 1 hour west of Edmonton\, so we will be arran
 ging a bus to pick&amp;hellip\;
CATEGORIES:Certification Exam
URL;VALUE=URI:https://www.stlealberta.org/mc-events/epcor-genesee-tour/
METHOD:PUBLISH
END:VEVENT
END:VCALENDAR