BEGIN:VCALENDAR
VERSION:2.0
PRODID:spatie/icalendar-generator
DESCRIPTION:Events from STLE Alberta Section
X-WR-CALDESC:Events from STLE Alberta Section
REFRESH-INTERVAL;VALUE=DURATION:PT1440M
X-PUBLISHED-TTL:PT1440M
BEGIN:VTIMEZONE
TZID:America/Edmonton
BEGIN:STANDARD
DTSTART:20181104T020000Z
TZOFFSETFROM:-0600
TZOFFSETTO:-0700
END:STANDARD
BEGIN:DAYLIGHT
DTSTART:20190310T020000Z
TZOFFSETFROM:-0700
TZOFFSETTO:-0600
END:DAYLIGHT
END:VTIMEZONE
BEGIN:VTIMEZONE
TZID:UTC
BEGIN:STANDARD
DTSTART:20250728T124700Z
TZOFFSETFROM:+0000
TZOFFSETTO:+0000
END:STANDARD
END:VTIMEZONE
BEGIN:VEVENT
UID:38-24
DTSTAMP:20260424T124700Z
SUMMARY:April 2019 STLE Meeting - Calgary
LOCATION:
ORGANIZER;CN=STLE Alberta Section:MAILTO:admin@stlealberta.org
DTSTART;TZID=America/Edmonton:20190415T180000
DTEND;TZID=America/Edmonton:20190415T210000
X-ALT-DESC;FMTTYPE=TEXT/HTML:Topic: Synthetic Lubricants Speaker: Cole Hale
 nda Organization: Imperial Oil On Monday\, April 14th\, Cole Halenda will 
 be talking to us about Synthetic Lubricants. He will be discussing the dif
 ferent types of synthetics\, the chemical structure and manufacturing proc
 ess\, and some of the benefits and limitations of synthetic lubricants. Co
 le has been in the lubricants business&amp;hellip\;
CATEGORIES:Meetings
URL;VALUE=URI:https://www.stlealberta.org/mc-events/april-2019-stle-meeting
 -calgary/
METHOD:PUBLISH
END:VEVENT
END:VCALENDAR