BEGIN:VCALENDAR
VERSION:2.0
PRODID:spatie/icalendar-generator
DESCRIPTION:Events from STLE Alberta Section
X-WR-CALDESC:Events from STLE Alberta Section
REFRESH-INTERVAL;VALUE=DURATION:PT1440M
X-PUBLISHED-TTL:PT1440M
BEGIN:VTIMEZONE
TZID:America/Edmonton
BEGIN:STANDARD
DTSTART:20181104T020000Z
TZOFFSETFROM:-0600
TZOFFSETTO:-0700
END:STANDARD
BEGIN:DAYLIGHT
DTSTART:20190310T020000Z
TZOFFSETFROM:-0700
TZOFFSETTO:-0600
END:DAYLIGHT
END:VTIMEZONE
BEGIN:VTIMEZONE
TZID:UTC
BEGIN:STANDARD
DTSTART:20250728T111311Z
TZOFFSETFROM:+0000
TZOFFSETTO:+0000
END:STANDARD
END:VTIMEZONE
BEGIN:VEVENT
UID:37-23
DTSTAMP:20260424T111311Z
SUMMARY:March 2019 STLE Meeting - Edmonton
LOCATION:
ORGANIZER;CN=STLE Alberta Section:MAILTO:admin@stlealberta.org
DTSTART;TZID=America/Edmonton:20190318T180000
DTEND;TZID=America/Edmonton:20190318T210000
X-ALT-DESC;FMTTYPE=TEXT/HTML:Topic: Applied Failure Analysis - Process Revi
 ew and Application Speakers: Ralph Baker Organization: Finning (Canada) Ap
 plication of the Failure Analysis process and the resultant identification
  of the Most Probable Root Cause of a machine failure provides you with th
 e data needed to support a change\; a change that is required to prevent f
 uture reoccurrence of&amp;hellip\;
CATEGORIES:Meetings
URL;VALUE=URI:https://www.stlealberta.org/mc-events/march-2019-stle-meeting
 -edmonton/
METHOD:PUBLISH
END:VEVENT
END:VCALENDAR