BEGIN:VCALENDAR
VERSION:2.0
PRODID:spatie/icalendar-generator
DESCRIPTION:Events from STLE Alberta Section
X-WR-CALDESC:Events from STLE Alberta Section
REFRESH-INTERVAL;VALUE=DURATION:PT1440M
X-PUBLISHED-TTL:PT1440M
BEGIN:VTIMEZONE
TZID:America/Edmonton
BEGIN:STANDARD
DTSTART:20181104T020000Z
TZOFFSETFROM:-0600
TZOFFSETTO:-0700
END:STANDARD
BEGIN:DAYLIGHT
DTSTART:20190310T020000Z
TZOFFSETFROM:-0700
TZOFFSETTO:-0600
END:DAYLIGHT
END:VTIMEZONE
BEGIN:VTIMEZONE
TZID:UTC
BEGIN:STANDARD
DTSTART:20250728T063037Z
TZOFFSETFROM:+0000
TZOFFSETTO:+0000
END:STANDARD
END:VTIMEZONE
BEGIN:VEVENT
UID:34-21
DTSTAMP:20260424T063037Z
SUMMARY:January 2019 STLE Meeting - Edmonton
LOCATION:
ORGANIZER;CN=STLE Alberta Section:MAILTO:admin@stlealberta.org
DTSTART;TZID=America/Edmonton:20190121T180000
DTEND;TZID=America/Edmonton:20190121T210000
X-ALT-DESC;FMTTYPE=TEXT/HTML:Topic: Biofuels  Speakers: Dr. Prem Pal Organ
 ization: InnoTech On Monday\, January 21st\, Dr. Prem Pal will be talking 
 to us about Biofuels. What are biofuels? Are there different kinds? Are th
 ey renewable? How do biofuels differ from regular fuel? Dr. Pal will be di
 scussing the current industry status\, as well as explaining some of the&amp;h
 ellip\;
CATEGORIES:Meetings
URL;VALUE=URI:https://www.stlealberta.org/mc-events/january-2019-stle-meeti
 ng-edmonton/
METHOD:PUBLISH
END:VEVENT
END:VCALENDAR