BEGIN:VCALENDAR
VERSION:2.0
PRODID:spatie/icalendar-generator
DESCRIPTION:Events from STLE Alberta Section
X-WR-CALDESC:Events from STLE Alberta Section
REFRESH-INTERVAL;VALUE=DURATION:PT1440M
X-PUBLISHED-TTL:PT1440M
BEGIN:VTIMEZONE
TZID:America/Edmonton
BEGIN:STANDARD
DTSTART:20181104T020000Z
TZOFFSETFROM:-0600
TZOFFSETTO:-0700
END:STANDARD
BEGIN:DAYLIGHT
DTSTART:20190310T020000Z
TZOFFSETFROM:-0700
TZOFFSETTO:-0600
END:DAYLIGHT
END:VTIMEZONE
BEGIN:VTIMEZONE
TZID:UTC
BEGIN:STANDARD
DTSTART:20250728T043447Z
TZOFFSETFROM:+0000
TZOFFSETTO:+0000
END:STANDARD
END:VTIMEZONE
BEGIN:VEVENT
UID:33-20
DTSTAMP:20260424T043447Z
SUMMARY:December 2018 STLE Meeting - Calgary
LOCATION:
ORGANIZER;CN=STLE Alberta Section:MAILTO:admin@stlealberta.org
DTSTART;TZID=America/Edmonton:20181210T180000
DTEND;TZID=America/Edmonton:20181210T210000
X-ALT-DESC;FMTTYPE=TEXT/HTML:Topic: Arctic Mining Equipment Speaker: Yen Ga
 rcia\, MLA II Organization: Dominion Diamond Ekati On Monday\, December 10
 th\, Yen Garcia will be talking to us about Arctic Mining Equipment. Worki
 ng up in the North West Terrrtories in a Mining environment does not come 
 without its complications. Yen will be discussing how they manage to opera
 te the&amp;hellip\;
CATEGORIES:Meetings
URL;VALUE=URI:https://www.stlealberta.org/mc-events/december-2018-stle-meet
 ing-calgary/
METHOD:PUBLISH
END:VEVENT
END:VCALENDAR