BEGIN:VCALENDAR
VERSION:2.0
PRODID:spatie/icalendar-generator
DESCRIPTION:Events from STLE Alberta Section
X-WR-CALDESC:Events from STLE Alberta Section
REFRESH-INTERVAL;VALUE=DURATION:PT1440M
X-PUBLISHED-TTL:PT1440M
BEGIN:VTIMEZONE
TZID:America/Edmonton
BEGIN:DAYLIGHT
DTSTART:20180311T020000Z
TZOFFSETFROM:-0700
TZOFFSETTO:-0600
END:DAYLIGHT
BEGIN:STANDARD
DTSTART:20181104T020000Z
TZOFFSETFROM:-0600
TZOFFSETTO:-0700
END:STANDARD
BEGIN:DAYLIGHT
DTSTART:20190310T020000Z
TZOFFSETFROM:-0700
TZOFFSETTO:-0600
END:DAYLIGHT
END:VTIMEZONE
BEGIN:VTIMEZONE
TZID:UTC
BEGIN:STANDARD
DTSTART:20250728T025647Z
TZOFFSETFROM:+0000
TZOFFSETTO:+0000
END:STANDARD
END:VTIMEZONE
BEGIN:VEVENT
UID:32-19
DTSTAMP:20260424T025647Z
SUMMARY:November 2018 STLE Meeting - Edmonton
LOCATION:
ORGANIZER;CN=STLE Alberta Section:MAILTO:admin@stlealberta.org
DTSTART;TZID=America/Edmonton:20181119T180000
DTEND;TZID=America/Edmonton:20181119T210000
X-ALT-DESC;FMTTYPE=TEXT/HTML:Topic: Greases Speakers: Darren Hall &amp;amp\; Ro
 b King Organization: Shell Canada &amp;nbsp\; Darren Hall\, Business Developme
 nt Manager\, and Rob King\, Technical Advisor from Shell Canada will be ta
 lking to us about Greases Selection. How to choose the right grease\, how 
 to make sure you don't use the wrong one\, and explore some case studies. 
 They&amp;hellip\;
CATEGORIES:Meetings
URL;VALUE=URI:https://www.stlealberta.org/mc-events/november-2018-stle-meet
 ing-edmonton/
METHOD:PUBLISH
END:VEVENT
END:VCALENDAR