BEGIN:VCALENDAR
VERSION:2.0
PRODID:spatie/icalendar-generator
DESCRIPTION:Events from STLE Alberta Section
X-WR-CALDESC:Events from STLE Alberta Section
REFRESH-INTERVAL;VALUE=DURATION:PT1440M
X-PUBLISHED-TTL:PT1440M
BEGIN:VTIMEZONE
TZID:America/Edmonton
BEGIN:DAYLIGHT
DTSTART:20180311T020000Z
TZOFFSETFROM:-0700
TZOFFSETTO:-0600
END:DAYLIGHT
BEGIN:STANDARD
DTSTART:20181104T020000Z
TZOFFSETFROM:-0600
TZOFFSETTO:-0700
END:STANDARD
BEGIN:DAYLIGHT
DTSTART:20190310T020000Z
TZOFFSETFROM:-0700
TZOFFSETTO:-0600
END:DAYLIGHT
END:VTIMEZONE
BEGIN:VTIMEZONE
TZID:UTC
BEGIN:STANDARD
DTSTART:20250728T011458Z
TZOFFSETFROM:+0000
TZOFFSETTO:+0000
END:STANDARD
END:VTIMEZONE
BEGIN:VEVENT
UID:31-18
DTSTAMP:20260424T011458Z
SUMMARY:October 2018 STLE Meeting - Calgary
LOCATION:
ORGANIZER;CN=STLE Alberta Section:MAILTO:admin@stlealberta.org
DTSTART;TZID=America/Edmonton:20181015T180000
DTEND;TZID=America/Edmonton:20181015T210000
X-ALT-DESC;FMTTYPE=TEXT/HTML:Topic: Bearing Failure Analysis Speaker: Andre
 w Peterson / Kurtis Wagner Organization: Petro-Canada / SKF This STLE meet
 ing takes place in Calgary on Monday October 15\, 2018. Andrew and Kurtis 
 will be talking to us about bearings. They will introduce us to bearing fa
 ilures\, and the different causes for them. We will be exposed to cursory&amp;
 hellip\;
CATEGORIES:Meetings
URL;VALUE=URI:https://www.stlealberta.org/mc-events/october-2018-stle-meeti
 ng-calgary/
METHOD:PUBLISH
END:VEVENT
END:VCALENDAR