BEGIN:VCALENDAR
VERSION:2.0
PRODID:spatie/icalendar-generator
DESCRIPTION:Events from STLE Alberta Section
X-WR-CALDESC:Events from STLE Alberta Section
REFRESH-INTERVAL;VALUE=DURATION:PT1440M
X-PUBLISHED-TTL:PT1440M
BEGIN:VTIMEZONE
TZID:America/Edmonton
BEGIN:DAYLIGHT
DTSTART:20180311T020000Z
TZOFFSETFROM:-0700
TZOFFSETTO:-0600
END:DAYLIGHT
BEGIN:STANDARD
DTSTART:20181104T020000Z
TZOFFSETFROM:-0600
TZOFFSETTO:-0700
END:STANDARD
BEGIN:DAYLIGHT
DTSTART:20190310T020000Z
TZOFFSETFROM:-0700
TZOFFSETTO:-0600
END:DAYLIGHT
END:VTIMEZONE
BEGIN:VTIMEZONE
TZID:UTC
BEGIN:STANDARD
DTSTART:20250727T234330Z
TZOFFSETFROM:+0000
TZOFFSETTO:+0000
END:STANDARD
END:VTIMEZONE
BEGIN:VEVENT
UID:30-16
DTSTAMP:20260423T234330Z
SUMMARY:September 2018 STLE Meeting - Edmonton
LOCATION:Woodvale Facility &amp;amp\; Golf Clubhouse 4540 50 St NW  Edmonton Al
 berta T6L 6B6
ORGANIZER;CN=STLE Alberta Section:MAILTO:admin@stlealberta.org
DTSTART;TZID=America/Edmonton:20180917T180000
DTEND;TZID=America/Edmonton:20180917T210000
X-ALT-DESC;FMTTYPE=TEXT/HTML:Topic: Railroad Lubrication Reliability Issues
  Speakers: Dianne Hunter and Colin Maciborski Canadian locomotives experie
 ncing sub-component failure resulting in the contamination of 30W lube oil
  into the split cooling system containing water and corrosion inhibitor. 
  Failed component is normally an oil cooler where there is high pressure o
 il and low pressure coolant\, allowing internal leakage. After&amp;hellip\;
CATEGORIES:Meetings
URL;VALUE=URI:https://www.stlealberta.org/mc-events/september-2018-stle-mee
 ting-edmonton/
METHOD:PUBLISH
END:VEVENT
END:VCALENDAR