BEGIN:VCALENDAR
VERSION:2.0
PRODID:spatie/icalendar-generator
DESCRIPTION:Events from STLE Alberta Section
X-WR-CALDESC:Events from STLE Alberta Section
REFRESH-INTERVAL;VALUE=DURATION:PT1440M
X-PUBLISHED-TTL:PT1440M
BEGIN:VTIMEZONE
TZID:America/Edmonton
BEGIN:STANDARD
DTSTART:20171105T020000Z
TZOFFSETFROM:-0600
TZOFFSETTO:-0700
END:STANDARD
BEGIN:DAYLIGHT
DTSTART:20180311T020000Z
TZOFFSETFROM:-0700
TZOFFSETTO:-0600
END:DAYLIGHT
END:VTIMEZONE
BEGIN:VTIMEZONE
TZID:UTC
BEGIN:STANDARD
DTSTART:20250727T202425Z
TZOFFSETFROM:+0000
TZOFFSETTO:+0000
END:STANDARD
END:VTIMEZONE
BEGIN:VEVENT
UID:27-15
DTSTAMP:20260423T202425Z
SUMMARY:April STLE Meeting - Calgary
LOCATION:Hotel Blackfoot (Blackfoot Inn) 5940 Blackfoot Trail SE  Calgary A
 lberta T2H 2B5
ORGANIZER;CN=STLE Alberta Section:MAILTO:admin@stlealberta.org
DTSTART;TZID=America/Edmonton:20180423T180000
DTEND;TZID=America/Edmonton:20180423T210000
X-ALT-DESC;FMTTYPE=TEXT/HTML:Topic: Impact of Contamination on Component Li
 fe Speaker: Ralph Baker Organization: Finning There are the big three Con
 taminant Categories Solid contaminants (e.g.: Dirt) Liquid contaminants (e
 .g.: water) Fluid viscosity (wrong choice of fluid for the environment the
  system is working in). The Spring STLE evening meeting in Calgary on Mond
 ay April 23\, 2018 will look at&amp;hellip\;
CATEGORIES:Meetings
URL;VALUE=URI:https://www.stlealberta.org/mc-events/april-stle-meeting-calg
 ary/
METHOD:PUBLISH
END:VEVENT
END:VCALENDAR