BEGIN:VCALENDAR
VERSION:2.0
PRODID:spatie/icalendar-generator
DESCRIPTION:Events from STLE Alberta Section
X-WR-CALDESC:Events from STLE Alberta Section
REFRESH-INTERVAL;VALUE=DURATION:PT1440M
X-PUBLISHED-TTL:PT1440M
BEGIN:VTIMEZONE
TZID:America/Edmonton
BEGIN:STANDARD
DTSTART:20171105T020000Z
TZOFFSETFROM:-0600
TZOFFSETTO:-0700
END:STANDARD
BEGIN:DAYLIGHT
DTSTART:20180311T020000Z
TZOFFSETFROM:-0700
TZOFFSETTO:-0600
END:DAYLIGHT
END:VTIMEZONE
BEGIN:VTIMEZONE
TZID:UTC
BEGIN:STANDARD
DTSTART:20250727T185130Z
TZOFFSETFROM:+0000
TZOFFSETTO:+0000
END:STANDARD
END:VTIMEZONE
BEGIN:VEVENT
UID:26-14
DTSTAMP:20260423T185130Z
SUMMARY:March STLE Meeting - Edmonton
LOCATION:Radisson Hotel South Edmonton 4440 Gateway Boulevard NW  Edmonton 
 Alberta T6H 5C2
ORGANIZER;CN=STLE Alberta Section:MAILTO:admin@stlealberta.org
DTSTART;TZID=America/Edmonton:20180312T180000
DTEND;TZID=America/Edmonton:20180312T210000
X-ALT-DESC;FMTTYPE=TEXT/HTML:Topic: Why using an aftermarket coolant ASAP m
 ay save you big maintenance $$$  Speaker: Henry Owusu Organization: Reco
 chem Is this the Biggest Performance Concern to Overcome for Internal Comb
 ustion\, Battery Power\, and Fuel Cell powered Vehicle Cooling Systems? ST
 LE Alberta Section Will hold their March meeting in Edmonton\, featuring H
 enry Owusu from Recochem. Henry Owusu is a&amp;hellip\;
CATEGORIES:Meetings
URL;VALUE=URI:https://www.stlealberta.org/mc-events/march-stle-meeting-edmo
 nton/
METHOD:PUBLISH
END:VEVENT
END:VCALENDAR