BEGIN:VCALENDAR
VERSION:2.0
PRODID:spatie/icalendar-generator
DESCRIPTION:Events from STLE Alberta Section
X-WR-CALDESC:Events from STLE Alberta Section
REFRESH-INTERVAL;VALUE=DURATION:PT1440M
X-PUBLISHED-TTL:PT1440M
BEGIN:VTIMEZONE
TZID:America/Edmonton
BEGIN:STANDARD
DTSTART:20171105T020000Z
TZOFFSETFROM:-0600
TZOFFSETTO:-0700
END:STANDARD
BEGIN:DAYLIGHT
DTSTART:20180311T020000Z
TZOFFSETFROM:-0700
TZOFFSETTO:-0600
END:DAYLIGHT
END:VTIMEZONE
BEGIN:VTIMEZONE
TZID:UTC
BEGIN:STANDARD
DTSTART:20250727T220000Z
TZOFFSETFROM:+0000
TZOFFSETTO:+0000
END:STANDARD
END:VTIMEZONE
BEGIN:VEVENT
UID:25-13
DTSTAMP:20260423T220000Z
SUMMARY:STLE Certification Exam Writing
LOCATION:
ORGANIZER;CN=STLE Alberta Section:MAILTO:admin@stlealberta.org
DTSTART;TZID=America/Edmonton:20180427T120000
DTEND;TZID=America/Edmonton:20180427T150000
X-ALT-DESC;FMTTYPE=TEXT/HTML:If you are currently studying to write your ce
 rtification for OMA I\, OMA II\, CLS or CMFS\, be prepared to write in Apr
 il\, 2018. Fluid Life\, in Edmonton\, is hosting a local opportunity to wr
 ite these exams on Friday\, April 27th\, at noon. You will be given 3 hour
 s to write the exam. Online registration&amp;hellip\;
CATEGORIES:Certification Exam
URL;VALUE=URI:https://www.stlealberta.org/mc-events/stle-certification-exam
 -writing/
METHOD:PUBLISH
END:VEVENT
END:VCALENDAR