BEGIN:VCALENDAR
VERSION:2.0
PRODID:spatie/icalendar-generator
DESCRIPTION:Events from STLE Alberta Section
X-WR-CALDESC:Events from STLE Alberta Section
REFRESH-INTERVAL;VALUE=DURATION:PT1440M
X-PUBLISHED-TTL:PT1440M
BEGIN:VTIMEZONE
TZID:America/Edmonton
BEGIN:STANDARD
DTSTART:20171105T020000Z
TZOFFSETFROM:-0600
TZOFFSETTO:-0700
END:STANDARD
BEGIN:DAYLIGHT
DTSTART:20180311T020000Z
TZOFFSETFROM:-0700
TZOFFSETTO:-0600
END:DAYLIGHT
END:VTIMEZONE
BEGIN:VTIMEZONE
TZID:UTC
BEGIN:STANDARD
DTSTART:20250727T183337Z
TZOFFSETFROM:+0000
TZOFFSETTO:+0000
END:STANDARD
END:VTIMEZONE
BEGIN:VEVENT
UID:21-10
DTSTAMP:20260423T183337Z
SUMMARY:February STLE Meeting - Calgary
LOCATION:Hotel Blackfoot (Blackfoot Inn) 5940 Blackfoot Trail SE  Calgary A
 lberta T2H 2B5
ORGANIZER;CN=STLE Alberta Section:MAILTO:admin@stlealberta.org
DTSTART;TZID=America/Edmonton:20180212T180000
DTEND;TZID=America/Edmonton:20180212T210000
X-ALT-DESC;FMTTYPE=TEXT/HTML:Topic: STLE Learning Pathways Speaker: Paul He
 therington\, Team Leader Technical Services Canada Organization: Petro-Can
 ada Lubricants Inc. As someone involved in the lubrication industry have y
 ou ever found yourself thinking or asking a simple question like: “I nee
 d to learn more about bearings?” “What really are the differences betw
 een hydraulic oil\, gear oil and engine oils?”&amp;hellip\;
CATEGORIES:Meetings
URL;VALUE=URI:https://www.stlealberta.org/mc-events/february-stle-meeting-c
 algary/
METHOD:PUBLISH
END:VEVENT
END:VCALENDAR